BEGIN:VCALENDAR
VERSION:2.0
PRODID:-//ChamberMaster//Event Calendar 2.0//EN
METHOD:PUBLISH
X-PUBLISHED-TTL:P3D
REFRESH-INTERVAL:P3D
CALSCALE:GREGORIAN
BEGIN:VEVENT
DTSTART:20250424T230000Z
DTEND:20250425T020000Z
X-MICROSOFT-CDO-ALLDAYEVENT:FALSE
SUMMARY:Business Locale Expo & Networking After Hours
DESCRIPTION:The PVP Chamber of Commerce presents\n\nBusiness Locale Expo & Networking 2025\n\n\n\nThursday\, April 24\, 2025\, 4pm - 7pm\n\nFree Admission & Open to the Community!\n\nWe are excited to announce the 2nd Annual Business Locale Expo - the Palos Verdes Peninsula's only business-to-business and community networking event showcasing businesses and service providers in Palos Verdes and the greater South Bay.\n\n\n\nNetworking and prizes\, food and beverages.\n\n\n\nTHANK YOU TO OUR SPONSORS...\n\nLieb\, Cody & Co.\n\n                       \n\n\n\n====================================================\n\nExhibitor space available\n\n$199 - members\, $275 - non-members\, $99 for member non-profits\n\n$50 late fee for any booth registrations after 4/17.\n\n\n\nRules for Exhibitors:\n\nHours: All Expo Booths must be set up by 3:45pm and remain staffed until the close of the event at 7pm. Exhibitors can arrive at 3pm for set up.\n\n\n\nDisplay Requirements: All display and business interaction with customers must be conducted within the vendor's 6' table space. You may add a table rental upon checkout for $25\, or bring your own.\n\n\n\nCourtesy to other Exhibitors: Participants are not allowed to: hinder or interfere with another vendor's ability to display and sell: including music\, use of a bullhorn or "hawking"\, blocking the pedestrian walkway either visually or physically\; sell firearms\, ammunition\, toy guns\, drugs or drug paraphernalia\, vaping products or items with lewd or vulgar content. Violators will be expelled from the expo and booth rental fees will not be refunded.\n\n\n\nElectricity: Is not available.\n\n\n\nSet-up and Parking: Load-in instructions will be sent to you via email approximately one week prior to the event. All vendor vehicles must be unloaded and immediately removed from the front of the venue prior to table set-up.\n\n\n\nOther Regulations: Participants are responsible for their own licenses and permits. Sales tax collection and payment to the State of California is the responsibility of the participant. All vendors are required to follow the municipal code and laws of the City of Rancho Palos Verdes\, the County of Los Angeles and the State of California.\n\n\n\nTear-down and Clean-up: Participants are expected to remain at their display table until 7pm.\n\nParticipants are responsible for clean-up of their space. Trash receptacles are provided within the venue. Not cleaning up your exhibit space will result in a $100 fine.\n\n\n\nPromotion: Participants are expected to promote the expo to your followers. Share your excitement about being a part of this amazing event and everyone benefits!  We will REPOST your posts for added publicity for you!\n\n\n\nDoor Prize Participation: Each vendor is asked to provide a door prize in the amount not less than $25.\n\n\n\nTo register as an exhibitor\, please click the register button\, confirm you agree with these rules by typing YES in the requested box\, and pay the exhibitor fee. You will be contacted with additional details and instructions upon payment.\n\n\n\nSPONSORSHIP OPPORTUNITIES AVAILABLE!\n\nPresenting Sponsor: $2000\n\nThere is only one presenting sponsorship available. Benefits includes your business name along with the chamber as the presenters (ie. The PVP Chamber of Commerce Business Locale Expo\, presented by (your business name) as well as an 8' table in entry area with prime location\, top billing in all event marketing (press releases\, digital flyer\, email blasts\, social media) hyperlinked logo on event page\, two individual social media posts\, and a solo email blast announcing your sponsorship.\n\n\n\n$1000 Sponsor - 8' table\, company logo on event marketing (press releases\, digital flyer\, email blasts\, social media)\, hyperlinked logo on event page.\n\n\n\n$500 Food/Wine Sponsor - Logo and prominent display at the bar/food area\, hyperlinked logo on the event page.\n\n\n\nAdditional sponsorship opportunities available. Email Cathy at the chamber - cathy@palosverdeschamber.com.
X-ALT-DESC;FMTTYPE=text/html:<p><span style="font-size:16px\;"><span style="font-family:arial\;">The PVP Chamber of Commerce <strong>presents</strong></span></span></p>\n\n<p><span style="font-size:16px\;"><span style="font-family:arial\;"><strong>Business Locale Expo &amp\; Networking 2025</strong><br />\n<br />\nThursday\, April 24\, 2025\, 4pm - 7pm</span></span></p>\n\n<p><em><span style="font-size:16px\;"><span style="font-family:arial\;">Free Admission &amp\; Open to the Community!</span></span></em></p>\n\n<p><span style="font-size:16px\;"><span style="font-family:arial\;">We are excited to announce the 2nd Annual Business Locale Expo - the Palos Verdes Peninsula&#39\;s only business-to-business and community networking event showcasing businesses and service providers in Palos Verdes and the greater South Bay.</span></span><br />\n<br />\n<span style="font-size:16px\;"><span style="font-family:arial\;">Networking and prizes\, food and beverages.<br />\n<br />\n<strong>THANK YOU TO OUR SPONSORS...</strong><br />\nLieb\, Cody &amp\; Co.<br />\n&nbsp\;&nbsp\;&nbsp\;&nbsp\;&nbsp\;&nbsp\;&nbsp\;&nbsp\;&nbsp\;&nbsp\;&nbsp\;&nbsp\;&nbsp\;&nbsp\;&nbsp\;&nbsp\;&nbsp\;&nbsp\;&nbsp\;&nbsp\;&nbsp\;&nbsp\;&nbsp\;<br />\n<br />\n====================================================<br />\n<strong>Exhibitor space available</strong><br />\n$199 - members\, $275 - non-members\, </span></span><span style="font-size:16px\;"><span style="font-family:arial\;">$99 for member non-profits<br />\n$50 late fee for any booth registrations after 4/17.</span></span><br />\n<br />\n<span style="font-size:16px\;"><span style="font-family:arial\;"><span style="font-size:14px\;"><em>Rules for Exhibitors:</em><br />\n<strong>Hours</strong>: All Expo Booths must be set up by 3:45pm and remain staffed until the close of the event at 7pm. Exhibitors can arrive at 3pm for set up.<br />\n<br />\n<strong>Display Requirements:</strong> All display and business interaction with customers must be conducted within the vendor&#39\;s 6&rsquo\; table space. You may add a table rental upon checkout for $25\, or bring your own.<br />\n<br />\n<strong>Courtesy to other Exhibitors:</strong> Participants are not allowed to: hinder or interfere with another vendor&#39\;s ability to display and sell: including music\, use of a bullhorn or &quot\;hawking&quot\;\, blocking the pedestrian walkway either visually or physically\; sell firearms\, ammunition\, toy guns\, drugs or drug paraphernalia\, vaping products or items with lewd or vulgar content. Violators will be expelled from the expo and booth rental fees will not be refunded.<br />\n<br />\n<strong>Electricity</strong>: Is not available.<br />\n<br />\n<strong>Set-up and Parking</strong>: Load-in instructions will be sent to you via email approximately one week prior to the event. All vendor vehicles must be unloaded and immediately removed from the front of the venue prior to table set-up.<br />\n<br />\n<strong>Other Regulations</strong>: Participants are responsible for their own licenses and permits. Sales tax collection and payment to the State of California is the responsibility of the participant. All vendors are required to follow the municipal code and laws of the City of Rancho Palos Verdes\, the County of Los Angeles and the State of California.<br />\n<br />\n<strong>Tear-down and Clean-up:</strong> Participants are expected to remain at their display table until 7pm.<br />\nParticipants are responsible for clean-up of their space. Trash receptacles are provided within the venue. Not cleaning up your exhibit space will result in a $100 fine.<br />\n<br />\n<strong>Promotion:</strong> Participants are expected to promote the expo to your followers. Share your excitement about being a part of this amazing event and everyone benefits!&nbsp\; We will REPOST your posts for added publicity for you!<br />\n<br />\n<strong>Door Prize Participation</strong>: Each vendor is asked to provide a door prize in the amount not less than $25.<br />\n<br />\nTo register as an exhibitor\, please click the register button\, confirm you agree with these rules by typing YES in the requested box\, and pay the exhibitor fee. You will be contacted with additional details and instructions upon payment.<br />\n<br />\n<strong>SPONSORSHIP OPPORTUNITIES AVAILABLE!</strong><br />\nPresenting Sponsor: $2000<br />\nThere is only one presenting sponsorship available. Benefits includes your business name along with the chamber as the presenters (ie. The PVP Chamber of Commerce Business Locale Expo\, presented by (your business name) as well as an&nbsp\;</span></span></span>8&#39\; <span style="font-size:14px\;"><span style="font-family:arial\;">table in entry area with prime location\, top billing in all event marketing (press releases\, digital flyer\, email blasts\, social media) hyperlinked logo on event page\, two individual social media posts\, and a solo email blast announcing your sponsorship.<br />\n<br />\n$1000 Sponsor -</span></span> 8&#39\; <span style="font-size:14px\;"><span style="font-family:arial\;">table\, company logo on event marketing (press releases\, digital flyer\, email blasts\, social media)\, hyperlinked logo on event page</span></span>.<br />\n<br />\n<span style="font-size:14px\;"><span style="font-family:arial\;">$500 Food/Wine Sponsor - Logo and prominent display at the bar/food area\, hyperlinked logo on the event page.<br />\n<br />\nAdditional sponsorship opportunities available. </span></span><span style="font-size:16px\;"><span style="font-family:arial\;"><span style="font-size:14px\;">Email Cathy at the chamber - cathy@palosverdeschamber.com.</span></span></span><br />\n<br />\n<br />\n<br />\n&nbsp\;</p>\n
LOCATION:Hesse Park - Community Center 29301 Hawthorne Blvd.\, Rancho Palos Verdes
UID:e.1310.16997
SEQUENCE:3
DTSTAMP:20260419T135634Z
URL:https://business.palosverdeschamber.com/events/details/business-locale-expo-networking-after-hours-16997
END:VEVENT

END:VCALENDAR
