BEGIN:VCALENDAR
VERSION:2.0
PRODID:-//ChamberMaster//Event Calendar 2.0//EN
METHOD:PUBLISH
X-PUBLISHED-TTL:P3D
REFRESH-INTERVAL:P3D
CALSCALE:GREGORIAN
BEGIN:VEVENT
DTSTART:20171102T003000Z
DTEND:20171102T050000Z
X-MICROSOFT-CDO-ALLDAYEVENT:FALSE
SUMMARY:"Citizen of the Year" Dinner
DESCRIPTION:Join local business\, community and government leaders as the Palos Verdes Peninsula Chamber of Commerce celebrates the tradition of philanthropy in our community.
X-ALT-DESC;FMTTYPE=text/html:<div><span style="font-family:arial\;">Join local business\, community and government leaders as the Palos Verdes Peninsula Chamber of Commerce celebrates the tradition of philanthropy in our community. </span></div>\n<br />\n<br />\n<br />\n&nbsp\;
LOCATION:Terranea Resort 100 Terranea Way Rancho Palos Verdes
UID:e.1310.12579
SEQUENCE:3
DTSTAMP:20260423T184500Z
URL:https://business.palosverdeschamber.com/events/details/citizen-of-the-year-dinner-12579
END:VEVENT

END:VCALENDAR
