BEGIN:VCALENDAR
VERSION:2.0
PRODID:-//ChamberMaster//Event Calendar 2.0//EN
METHOD:PUBLISH
X-PUBLISHED-TTL:P3D
REFRESH-INTERVAL:P3D
CALSCALE:GREGORIAN
BEGIN:VEVENT
DTSTART:20260529T003000Z
DTEND:20260529T023000Z
X-MICROSOFT-CDO-ALLDAYEVENT:FALSE
SUMMARY:Conversations & Connections “Meets” Business After Hours
DESCRIPTION:The Palos Verdes Peninsula Chamber of Commerce is excited to host our Spring Business After Hours meets Conversations and Connections event at the Torrance Marriott . These quarterly events hosted by our Young Professionals group encourage our members to network and meet one another by bringing us all together.\n\n\n\nIn addition to these quarterly events\, the Chamber also offers quarterly Conversations & Connections and Learning Lab events. These casual meetups are designed to bring members together in an unstructured space to meet without the rigid agenda vibes. This upcoming event is a unique crossover event where we are bringing both of these great Chamber offerings together in one place and time. Please join us as we enjoy the beautiful spring night in the South Bay to learn more about these unique Chamber events and engage with fellow members.\n\n\n\nThank you to the Marriott for hosting us with snacks and free parking. Cash bar available to purchase additional beverages.
X-ALT-DESC;FMTTYPE=text/html:<span style="color: rgb(51\, 51\, 51)\; font-family: arial\; font-size: 13px\; background-color: rgb(255\, 255\, 255)\;">The Palos Verdes Peninsula Chamber of Commerce is excited to host our Spring Business After Hours meets Conversations and Connections event at the Torrance Marriott&hellip\;. These quarterly events hosted by our Young Professionals group encourage our members to network and meet one another by bringing us all together.</span><br style="color: rgb(51\, 51\, 51)\; font-family: arial\; font-size: 13px\; background-color: rgb(255\, 255\, 255)\;" />\n<br style="color: rgb(51\, 51\, 51)\; font-family: arial\; font-size: 13px\; background-color: rgb(255\, 255\, 255)\;" />\n<span style="color: rgb(51\, 51\, 51)\; font-family: arial\; font-size: 13px\; background-color: rgb(255\, 255\, 255)\;">In addition to these quarterly events\, the Chamber also offers quarterly Conversations&nbsp\;&amp\; Connections and Learning Lab events. These casual meetups are designed to bring members together in an unstructured space to meet without the rigid agenda vibes. This upcoming event is a unique crossover event where we are bringing both of these great Chamber offerings together in one place and time. Please join us as we enjoy the beautiful spring night in the South Bay to learn more about these unique Chamber events and engage with fellow members.</span><br style="color: rgb(51\, 51\, 51)\; font-family: arial\; font-size: 13px\; background-color: rgb(255\, 255\, 255)\;" />\n<br style="color: rgb(51\, 51\, 51)\; font-family: arial\; font-size: 13px\; background-color: rgb(255\, 255\, 255)\;" />\n<span style="color: rgb(51\, 51\, 51)\; font-family: arial\; font-size: 13px\; background-color: rgb(255\, 255\, 255)\;">Thank you to the Marriott for hosting us with snacks and free parking. Cash bar available to purchase additional beverages.</span>
LOCATION:Overlook Patio\, Torrance Marriott Redondo Beach 3635 Fashion Way\, Torrance
UID:e.1310.18003
SEQUENCE:3
DTSTAMP:20260424T194648Z
URL:https://business.palosverdeschamber.com/events/details/conversations-connections-meets-business-after-hours-18003
END:VEVENT

END:VCALENDAR
