BEGIN:VCALENDAR
VERSION:2.0
PRODID:-//ChamberMaster//Event Calendar 2.0//EN
METHOD:PUBLISH
X-PUBLISHED-TTL:P3D
REFRESH-INTERVAL:P3D
CALSCALE:GREGORIAN
BEGIN:VEVENT
DTSTART:20260603T150000Z
DTEND:20260603T163000Z
X-MICROSOFT-CDO-ALLDAYEVENT:FALSE
SUMMARY:Good Morning\, Palos Verdes Networking 2026
DESCRIPTION:Attend this dynamic networking breakfast session to meet up with like minded early birds and do business together!
X-ALT-DESC;FMTTYPE=text/html:<span style="font-size:16px\;"><span style="font-family:arial\;"><span style="font-size:20px\;">Attend this dynamic networking breakfast session to meet up with like minded early birds and do business together!</span></span></span>\n<p data-path-to-node="4">&nbsp\;</p>\n
LOCATION:Good Stuff at Promenade PV 550 Deep Valley Drive\, RHE Park on the first floor\, west side of parking structure\, near El Polla Inka/Creme De La Crepe/Equinox
UID:e.1310.17866
SEQUENCE:3
DTSTAMP:20260420T010419Z
URL:https://business.palosverdeschamber.com/events/details/good-morning-palos-verdes-networking-2026-06-03-2026-17866
END:VEVENT

END:VCALENDAR
