BEGIN:VCALENDAR
VERSION:2.0
PRODID:-//ChamberMaster//Event Calendar 2.0//EN
METHOD:PUBLISH
X-PUBLISHED-TTL:P3D
REFRESH-INTERVAL:P3D
CALSCALE:GREGORIAN
BEGIN:VEVENT
DTSTART:20260701T150000Z
DTEND:20260701T163000Z
X-MICROSOFT-CDO-ALLDAYEVENT:FALSE
SUMMARY:Good Morning\, Palos Verdes Networking 2026
DESCRIPTION:Attend this dynamic networking breakfast session to meet up with like minded early birds and do business together!\n\nStart your morning with a dose of inspiration. Join us for our GMPV breakfast as we host a special panel featuring the nonprofit leaders who strengthen the fabric of our Peninsula.\n\nFrom providing housing for families in crisis to providing life-changing service animals\, these organizations are the heart of our community. Come learn how their work impacts our local economy and how the business community can partner for a greater cause.\n\nOur Featured Panelists:\n\n\n	\n	Julie Sampras   Ronald McDonald House\n	\n	\n	Melayne Yocum   Canine Companions\n	\n	\n	Laura Hernandez   New Challenge Ministries
X-ALT-DESC;FMTTYPE=text/html:<span style="font-size:16px\;"><span style="font-family:arial\;"><span style="font-size:20px\;">Attend this dynamic networking breakfast session to meet up with like minded early birds and do business together!</span></span></span>\n\n<p data-path-to-node="4"><span style="font-size:20px\;">Start your morning with a dose of inspiration. Join us for our&nbsp\;GMPV breakfast as we host a special panel featuring the nonprofit leaders who strengthen the fabric of our Peninsula.</span></p>\n\n<p data-path-to-node="5"><span style="font-size:20px\;">From providing housing for families in crisis to providing life-changing service animals\, these organizations are the heart of our community. Come learn how their work impacts our local economy and how the business community can partner for a greater cause.</span></p>\n\n<p data-path-to-node="6"><span style="font-size:20px\;"><b data-index-in-node="0" data-path-to-node="6">Our Featured Panelists:</b></span></p>\n\n<ul data-path-to-node="7">\n	<li>\n	<p data-path-to-node="7\,0\,0"><span style="font-size:20px\;"><b data-index-in-node="0" data-path-to-node="7\,0\,0">Julie Sampras</b> &ndash\; Ronald McDonald House</span></p>\n	</li>\n	<li>\n	<p data-path-to-node="7\,1\,0"><span style="font-size:20px\;"><b data-index-in-node="0" data-path-to-node="7\,1\,0">Melayne Yocum</b> &ndash\; Canine Companions</span></p>\n	</li>\n	<li>\n	<p data-path-to-node="7\,2\,0"><span style="font-size:20px\;"><b data-index-in-node="0" data-path-to-node="7\,2\,0">Laura Hernandez</b> &ndash\; New Challenge Ministries</span></p>\n	</li>\n</ul>\n<br />\n<br />\n&nbsp\;
LOCATION:Good Stuff at Promenade PV 550 Deep Valley Drive\, RHE Park on the first floor\, west side of parking structure\, near El Polla Inka/Creme De La Crepe/Equinox
UID:e.1310.17867
SEQUENCE:3
DTSTAMP:20260420T010436Z
URL:https://business.palosverdeschamber.com/events/details/good-morning-palos-verdes-networking-2026-07-01-2026-17867
END:VEVENT

END:VCALENDAR
