BEGIN:VCALENDAR
VERSION:2.0
PRODID:-//ChamberMaster//Event Calendar 2.0//EN
METHOD:PUBLISH
X-PUBLISHED-TTL:P3D
REFRESH-INTERVAL:P3D
CALSCALE:GREGORIAN
BEGIN:VEVENT
DTSTART:20260512T163000Z
DTEND:20260512T174500Z
X-MICROSOFT-CDO-ALLDAYEVENT:FALSE
SUMMARY:LeadHERs in Business
DESCRIPTION:LeadHERs in Business hosts monthly Coffee & Connections for women in business.  They are the 2nd Tuesday of every month from 9:30am - 10:45am. The purpose is to allow connection (introductions)\, conversation and collaboration within the business women's community.\n\nThese gatherings are an opportunity to:\n\n~ Meet\, introduce and surround yourself with other local business women\n\n~ Share ideas and mini-mind with supportive peers for conversation and valuable feedback\n\n~ Discover the possibilities of collaboration through mutual connections and referrals
X-ALT-DESC;FMTTYPE=text/html:LeadHERs in Business hosts monthly Coffee &amp\; Connections for women in business.&nbsp\; They are the 2nd Tuesday of every month from 9:30am - 10:45am. The purpose is to allow connection (introductions)\, conversation and collaboration within the business women&#39\;s community.<br />\nThese gatherings are an opportunity to:<br />\n~ Meet\, introduce and surround yourself with other local business women<br />\n~ Share ideas and mini-mind with supportive peers for conversation and valuable feedback<br />\n~ Discover the possibilities of collaboration through mutual connections and referrals<br />\n&nbsp\;
LOCATION:PVP Chamber Office: 4040 Palos Verdes Drive North\, Suite 205
UID:e.1310.17835
SEQUENCE:3
DTSTAMP:20260424T145546Z
URL:https://business.palosverdeschamber.com/events/details/leadhers-in-business-05-12-2026-17835
END:VEVENT

END:VCALENDAR
