BEGIN:VCALENDAR
VERSION:2.0
PRODID:-//ChamberMaster//Event Calendar 2.0//EN
METHOD:PUBLISH
X-PUBLISHED-TTL:P3D
REFRESH-INTERVAL:P3D
CALSCALE:GREGORIAN
BEGIN:VEVENT
DTSTART:20141112T020000Z
DTEND:20141112T050000Z
X-MICROSOFT-CDO-ALLDAYEVENT:FALSE
SUMMARY:Roadmap to Business Success: Conversations with Experts - Legal Issues
DESCRIPTION:The first in a four-part series of interactive panel discussions sharing crucial information for Business Executives\, Owners and Professionals.\n\n\n\nAddressing what you need to know about the law\, and how to avoid common pitfalls are our distinguished panelists:\n\n	Dora de la Rosa\n	Elliott Hahn\n	Jeffrey Lewis\n	Robert Morrow\n	Moderated by Randall Sgro
X-ALT-DESC;FMTTYPE=text/html:The first in a four-part series of interactive panel discussions sharing crucial information for Business Executives\, Owners and Professionals.<br />\n<br />\nAddressing what you need to know about the law\, and how to avoid common pitfalls are our distinguished panelists:\n<ul>\n	<li>Dora de la Rosa</li>\n	<li>Elliott Hahn</li>\n	<li>Jeffrey Lewis</li>\n	<li>Robert Morrow</li>\n	<li>Moderated by Randall Sgro</li>\n</ul>\n
LOCATION:Palos Verdes Golf Club 3310 Via Campesina Palos Verdes Estates\, CA 90274
UID:e.1310.3953
SEQUENCE:3
DTSTAMP:20260422T012932Z
URL:https://business.palosverdeschamber.com/events/details/roadmap-to-business-success-conversations-with-experts-legal-issues-11-11-2014-3953
END:VEVENT

END:VCALENDAR
